BEGIN:VCALENDAR
VERSION:2.0
PRODID:-//Collosseum Club Košice - ECPv6.15.20//NONSGML v1.0//EN
CALSCALE:GREGORIAN
METHOD:PUBLISH
X-ORIGINAL-URL:https://collosseum.sk
X-WR-CALDESC:Udalosti pre Collosseum Club Košice
REFRESH-INTERVAL;VALUE=DURATION:PT1H
X-Robots-Tag:noindex
X-PUBLISHED-TTL:PT1H
BEGIN:VTIMEZONE
TZID:Europe/Bratislava
BEGIN:DAYLIGHT
TZOFFSETFROM:+0100
TZOFFSETTO:+0200
TZNAME:CEST
DTSTART:20250330T010000
END:DAYLIGHT
BEGIN:STANDARD
TZOFFSETFROM:+0200
TZOFFSETTO:+0100
TZNAME:CET
DTSTART:20251026T010000
END:STANDARD
BEGIN:DAYLIGHT
TZOFFSETFROM:+0100
TZOFFSETTO:+0200
TZNAME:CEST
DTSTART:20260329T010000
END:DAYLIGHT
BEGIN:STANDARD
TZOFFSETFROM:+0200
TZOFFSETTO:+0100
TZNAME:CET
DTSTART:20261025T010000
END:STANDARD
BEGIN:DAYLIGHT
TZOFFSETFROM:+0100
TZOFFSETTO:+0200
TZNAME:CEST
DTSTART:20270328T010000
END:DAYLIGHT
BEGIN:STANDARD
TZOFFSETFROM:+0200
TZOFFSETTO:+0100
TZNAME:CET
DTSTART:20271031T010000
END:STANDARD
END:VTIMEZONE
BEGIN:VEVENT
DTSTART;TZID=Europe/Bratislava:20260903T180000
DTEND;TZID=Europe/Bratislava:20260903T220000
DTSTAMP:20260425T185030
CREATED:20251119T175043Z
LAST-MODIFIED:20260406T191215Z
UID:7561-1788458400-1788472800@collosseum.sk
SUMMARY:HELLRIPPER (black/speed metal\, Scotland)
DESCRIPTION:
URL:https://collosseum.sk/event/hellripper-2026/
LOCATION:Collosseum Club\, Dominikánske námestie 35\, Košice\, 04001
ATTACH;FMTTYPE=image/jpeg:https://collosseum.sk/wp-content/uploads/2026/02/599939787_1325909966232438_8451484898673699560_n.jpg
END:VEVENT
END:VCALENDAR