BEGIN:VCALENDAR
VERSION:2.0
PRODID:-//Collosseum Club Košice - ECPv6.15.20//NONSGML v1.0//EN
CALSCALE:GREGORIAN
METHOD:PUBLISH
X-WR-CALNAME:Collosseum Club Košice
X-ORIGINAL-URL:https://collosseum.sk
X-WR-CALDESC:Udalosti pre Collosseum Club Košice
REFRESH-INTERVAL;VALUE=DURATION:PT1H
X-Robots-Tag:noindex
X-PUBLISHED-TTL:PT1H
BEGIN:VTIMEZONE
TZID:Europe/Bratislava
BEGIN:DAYLIGHT
TZOFFSETFROM:+0100
TZOFFSETTO:+0200
TZNAME:CEST
DTSTART:20240331T010000
END:DAYLIGHT
BEGIN:STANDARD
TZOFFSETFROM:+0200
TZOFFSETTO:+0100
TZNAME:CET
DTSTART:20241027T010000
END:STANDARD
BEGIN:DAYLIGHT
TZOFFSETFROM:+0100
TZOFFSETTO:+0200
TZNAME:CEST
DTSTART:20250330T010000
END:DAYLIGHT
BEGIN:STANDARD
TZOFFSETFROM:+0200
TZOFFSETTO:+0100
TZNAME:CET
DTSTART:20251026T010000
END:STANDARD
BEGIN:DAYLIGHT
TZOFFSETFROM:+0100
TZOFFSETTO:+0200
TZNAME:CEST
DTSTART:20260329T010000
END:DAYLIGHT
BEGIN:STANDARD
TZOFFSETFROM:+0200
TZOFFSETTO:+0100
TZNAME:CET
DTSTART:20261025T010000
END:STANDARD
BEGIN:DAYLIGHT
TZOFFSETFROM:+0100
TZOFFSETTO:+0200
TZNAME:CEST
DTSTART:20270328T010000
END:DAYLIGHT
BEGIN:STANDARD
TZOFFSETFROM:+0200
TZOFFSETTO:+0100
TZNAME:CET
DTSTART:20271031T010000
END:STANDARD
END:VTIMEZONE
BEGIN:VEVENT
DTSTART;TZID=Europe/Bratislava:20260519T190000
DTEND;TZID=Europe/Bratislava:20260519T220000
DTSTAMP:20260425T153742
CREATED:20260406T190037Z
LAST-MODIFIED:20260406T190454Z
UID:8090-1779217200-1779228000@collosseum.sk
SUMMARY:ACIDEZ (hardcore punk - MX) // 777
DESCRIPTION:
URL:https://collosseum.sk/event/acidez-hardcore-punk/
LOCATION:Collosseum Club\, Dominikánske námestie 35\, Košice\, 04001
ATTACH;FMTTYPE=image/jpeg:https://collosseum.sk/wp-content/uploads/2026/04/28596893-43f7-4538-a1a7-51ae15fcd10d.jpg
END:VEVENT
BEGIN:VEVENT
DTSTART;TZID=Europe/Bratislava:20260517T180000
DTEND;TZID=Europe/Bratislava:20260517T220000
DTSTAMP:20260425T153742
CREATED:20260218T091932Z
LAST-MODIFIED:20260218T092127Z
UID:7908-1779040800-1779055200@collosseum.sk
SUMMARY:VICIOUS RUMORS (USA)+ WAYD (SK) + CASTAWAY (SK)
DESCRIPTION:
URL:https://collosseum.sk/event/vicious-rumors-usa-wayd-sk-castaway-sk/
LOCATION:Collosseum Club\, Dominikánske námestie 35\, Košice\, 04001
ATTACH;FMTTYPE=image/jpeg:https://collosseum.sk/wp-content/uploads/2026/02/625315425_1310336427782848_119465669404033613_n.jpg
END:VEVENT
BEGIN:VEVENT
DTSTART;TZID=Europe/Bratislava:20260514T190000
DTEND;TZID=Europe/Bratislava:20260514T220000
DTSTAMP:20260425T153742
CREATED:20260211T161625Z
LAST-MODIFIED:20260406T190917Z
UID:7853-1778785200-1778796000@collosseum.sk
SUMMARY:M.D.C. [USA]\, BARACKCA [HU]\, GODOT YOUTH [CZ]
DESCRIPTION:
URL:https://collosseum.sk/event/no-putin-no-orban-tour/
LOCATION:Collosseum Club\, Dominikánske námestie 35\, Košice\, 04001
ATTACH;FMTTYPE=image/jpeg:https://collosseum.sk/wp-content/uploads/2026/02/633073942_1373217938168307_7748422649760983359_n.jpg
END:VEVENT
BEGIN:VEVENT
DTSTART;TZID=Europe/Bratislava:20260509T190000
DTEND;TZID=Europe/Bratislava:20260509T220000
DTSTAMP:20260425T153742
CREATED:20260114T151721Z
LAST-MODIFIED:20260406T190739Z
UID:7690-1778353200-1778364000@collosseum.sk
SUMMARY:MONSTROSITY [USA]\, BIO-CANCER [GR]\, REJECT THE SICKNESS [BE]
DESCRIPTION:
URL:https://collosseum.sk/event/monstrosity-biocancer-rejectthesickness/
LOCATION:Collosseum Club\, Dominikánske námestie 35\, Košice\, 04001
ATTACH;FMTTYPE=image/jpeg:https://collosseum.sk/wp-content/uploads/2026/01/627706310_1370198148470286_8841862336480053514_n.jpg
END:VEVENT
BEGIN:VEVENT
DTSTART;TZID=Europe/Bratislava:20260429T190000
DTEND;TZID=Europe/Bratislava:20260429T220000
DTSTAMP:20260425T153742
CREATED:20251119T180137Z
LAST-MODIFIED:20260406T190625Z
UID:7567-1777489200-1777500000@collosseum.sk
SUMMARY:1914 [UA] / KATLA [DK]
DESCRIPTION:
URL:https://collosseum.sk/event/1914-katla/
LOCATION:Collosseum Club\, Dominikánske námestie 35\, Košice\, 04001
ATTACH;FMTTYPE=image/jpeg:https://collosseum.sk/wp-content/uploads/2025/11/588551966_1311162437707191_7362172796869990673_n.jpg
END:VEVENT
BEGIN:VEVENT
DTSTART;TZID=Europe/Bratislava:20260213T200000
DTEND;TZID=Europe/Bratislava:20260213T220000
DTSTAMP:20260425T153742
CREATED:20260114T143210Z
LAST-MODIFIED:20260114T144845Z
UID:7678-1771012800-1771020000@collosseum.sk
SUMMARY:KATARZIA + klavír: Robin Galia
DESCRIPTION:
URL:https://collosseum.sk/event/katarzia-2026/
LOCATION:Collosseum Club\, Dominikánske námestie 35\, Košice\, 04001
END:VEVENT
BEGIN:VEVENT
DTSTART;TZID=Europe/Bratislava:20251220T183000
DTEND;TZID=Europe/Bratislava:20251220T220000
DTSTAMP:20260425T153742
CREATED:20250812T091550Z
LAST-MODIFIED:20251119T174211Z
UID:6315-1766255400-1766268000@collosseum.sk
SUMMARY:!!! KONCERT ZRUŠENÝ !!! ... AND OCEANS [FI]\, MÖRK GRYNING [SE]\, ANGSTSKRIG [DK]
DESCRIPTION:
URL:https://collosseum.sk/event/and-oceans-mork-gryning-angstskrig/
LOCATION:Collosseum Club\, Dominikánske námestie 35\, Košice\, 04001
END:VEVENT
BEGIN:VEVENT
DTSTART;TZID=Europe/Bratislava:20251119T180000
DTEND;TZID=Europe/Bratislava:20251119T220000
DTSTAMP:20260425T153742
CREATED:20250920T174403Z
LAST-MODIFIED:20250920T174805Z
UID:6657-1763575200-1763589600@collosseum.sk
SUMMARY:GUTTURAL SLUG [DK]\, COPROCEPHALIC MUTATION [UK]\, NECROTIC GORE BEAST [CA]
DESCRIPTION:GUTTURAL SLUG [DK] slam / brutal death metal\nFACEBOOK / INSTAGRAM / BANDCAMP\nCOPROCEPHALIC MUTATION [UK] slam / brutal death metal\nFACEBOOK / INSTAGRAM / BANDCAMP\nNECROTIC GORE BEAST [CA] slam / brutal death metal\nFACEBOOK / INSTAGRAM / BANDCAMP
URL:https://collosseum.sk/event/guttural-slug-coprocephalic-mutation/
LOCATION:Collosseum Club\, Dominikánske námestie 35\, Košice\, 04001
END:VEVENT
BEGIN:VEVENT
DTSTART;TZID=Europe/Bratislava:20251118T193000
DTEND;TZID=Europe/Bratislava:20251118T220000
DTSTAMP:20260425T153742
CREATED:20250929T190254Z
LAST-MODIFIED:20251118T185321Z
UID:6742-1763494200-1763503200@collosseum.sk
SUMMARY:THE OUTLAW - VINNIE STIGMA
DESCRIPTION:
URL:https://collosseum.sk/event/the-outlaw-vinnie-stigma/
LOCATION:Collosseum Club\, Dominikánske námestie 35\, Košice\, 04001
END:VEVENT
BEGIN:VEVENT
DTSTART;TZID=Europe/Bratislava:20251108T190000
DTEND;TZID=Europe/Bratislava:20251108T220000
DTSTAMP:20260425T153742
CREATED:20250908T132153Z
LAST-MODIFIED:20250916T120028Z
UID:6471-1762628400-1762639200@collosseum.sk
SUMMARY:BERLIN MANSON\, DUŠAN VLK - Collosseum Club
DESCRIPTION:
URL:https://collosseum.sk/event/berlin-manson-dusan-vlk/
LOCATION:Collosseum Club\, Dominikánske námestie 35\, Košice\, 04001
END:VEVENT
BEGIN:VEVENT
DTSTART;TZID=Europe/Bratislava:20251028T190000
DTEND;TZID=Europe/Bratislava:20251028T220000
DTSTAMP:20260425T153742
CREATED:20250818T144421Z
LAST-MODIFIED:20250818T144440Z
UID:6357-1761678000-1761688800@collosseum.sk
SUMMARY:Artificial Brain [USA] / Suffering Hour [USA] / Devoid Of Thought [IT]
DESCRIPTION:
URL:https://collosseum.sk/event/artificial-brain-suffering-hour-devoid-of-thought/
LOCATION:Collosseum Club\, Dominikánske námestie 35\, Košice\, 04001
END:VEVENT
BEGIN:VEVENT
DTSTART;TZID=Europe/Bratislava:20251025T190000
DTEND;TZID=Europe/Bratislava:20251025T220000
DTSTAMP:20260425T153742
CREATED:20250527T154845Z
LAST-MODIFIED:20250814T111618Z
UID:5994-1761418800-1761429600@collosseum.sk
SUMMARY:GRAVEKVLT [FR] // 777
DESCRIPTION:GRAVEKVLT [FR] EVIL SPEED METAL PUNK\nhttps://gravekvlt.bandcamp.com/
URL:https://collosseum.sk/event/gravekvlt/
LOCATION:Collosseum Club\, Dominikánske námestie 35\, Košice\, 04001
END:VEVENT
BEGIN:VEVENT
DTSTART;TZID=Europe/Bratislava:20251023T180000
DTEND;TZID=Europe/Bratislava:20251023T220000
DTSTAMP:20260425T153742
CREATED:20250323T135856Z
LAST-MODIFIED:20250527T155451Z
UID:5456-1761242400-1761256800@collosseum.sk
SUMMARY:HOUR OF PENANCE [IT]\, CUTTERRED FLESH [CZ] CONTEMPT [SK]
DESCRIPTION:HOUR OF PENANCE [IT] technical/brutal death metal\nhttps://hourofpenance.bandcamp.com/music\nCUTTERRED FLESH [CZ] death metal\nhttps://cutterredfleshband.bandcamp.com/\nCONTEMPT [SK] brutal death metal\nhttps://bandzone.cz/contempt
URL:https://collosseum.sk/event/hourofpenance-cutterredflesh-contempt/
LOCATION:Collosseum Club\, Dominikánske námestie 35\, Košice\, 04001
END:VEVENT
BEGIN:VEVENT
DTSTART;TZID=Europe/Bratislava:20251011T190000
DTEND;TZID=Europe/Bratislava:20251011T220000
DTSTAMP:20260425T153742
CREATED:20250916T135932Z
LAST-MODIFIED:20251002T125605Z
UID:6620-1760209200-1760220000@collosseum.sk
SUMMARY:BESNA [BA] | Prometheus Tour 2025\, HMOTA [NZ] BLEIR [KE]
DESCRIPTION:BESNA (post-black metal / Bratislava)\nFACEBOOK / INSTAGRAM / BANDCAMP\nHMOTA (post-metal / Nové zámky)\nFACEBOOK / INSTAGRAM / BANDCAMP\nBLEIR (post-hardcore / Košice)\nFACEBOOK / INSTAGRAM / BANDCAMP
URL:https://collosseum.sk/event/besna-2025/
LOCATION:Collosseum Club\, Dominikánske námestie 35\, Košice\, 04001
END:VEVENT
BEGIN:VEVENT
DTSTART;TZID=Europe/Bratislava:20250913T190000
DTEND;TZID=Europe/Bratislava:20250913T190000
DTSTAMP:20260425T153742
CREATED:20250717T133628Z
LAST-MODIFIED:20250717T133628Z
UID:6235-1757790000-1757790000@collosseum.sk
SUMMARY:RNZ\, TEMNY RUDO - In Memoriam Gehenna Tour 2025 // 777
DESCRIPTION:
URL:https://collosseum.sk/event/in-memoriam-gehenna-tour-2025/
LOCATION:Collosseum Club\, Dominikánske námestie 35\, Košice\, 04001
END:VEVENT
BEGIN:VEVENT
DTSTART;TZID=Europe/Bratislava:20250908T190000
DTEND;TZID=Europe/Bratislava:20250908T220000
DTSTAMP:20260425T153742
CREATED:20250729T132801Z
LAST-MODIFIED:20250908T185649Z
UID:6261-1757358000-1757368800@collosseum.sk
SUMMARY:Texas Toast Chainsaw Massacre [USA]
DESCRIPTION:
URL:https://collosseum.sk/event/texas-toast-chainsaw-massacre-usa/
LOCATION:Collosseum Club\, Dominikánske námestie 35\, Košice\, 04001
END:VEVENT
BEGIN:VEVENT
DTSTART;TZID=Europe/Bratislava:20250905T180000
DTEND;TZID=Europe/Bratislava:20250905T220000
DTSTAMP:20260425T153742
CREATED:20250501T210448Z
LAST-MODIFIED:20250714T195510Z
UID:5823-1757095200-1757109600@collosseum.sk
SUMMARY:HATE (blackened death metal\, Poľsko) + Machina Baphometa (Kežmarok)
DESCRIPTION:
URL:https://collosseum.sk/event/hate-blackened-death/
LOCATION:Collosseum Club\, Dominikánske námestie 35\, Košice\, 04001
END:VEVENT
BEGIN:VEVENT
DTSTART;TZID=Europe/Bratislava:20250810T190000
DTEND;TZID=Europe/Bratislava:20250810T220000
DTSTAMP:20260425T153742
CREATED:20250501T205543Z
LAST-MODIFIED:20250501T205614Z
UID:5813-1754852400-1754863200@collosseum.sk
SUMMARY:PYREXIA [USA]\, EXTERMINATION DISMEMBERMENT [BY]\, RELIC OF HUMANITY [BY]
DESCRIPTION:
URL:https://collosseum.sk/event/pyrexia-extermination-dismemberment-relic-of-humanity/
LOCATION:Collosseum Club\, Dominikánske námestie 35\, Košice\, 04001
END:VEVENT
BEGIN:VEVENT
DTSTART;TZID=Europe/Bratislava:20250709T190000
DTEND;TZID=Europe/Bratislava:20250709T220000
DTSTAMP:20260425T153742
CREATED:20250407T143133Z
LAST-MODIFIED:20250505T122504Z
UID:5624-1752087600-1752098400@collosseum.sk
SUMMARY:TOTAL CHAOS (hardcore punk / USA) + CLIFTONS (punk / SNV)
DESCRIPTION:TOTAL CHAOS  [USA] hardcore punk \nhttps://total-chaos.bandcamp.com/\nhttps://www.instagram.com/totalchaos_official/\nCLIFTONS [SNV] punk\nhttps://bandzone.cz/cliftons\nhttps://www.facebook.com/cliftonspunk
URL:https://collosseum.sk/event/total-chaos-hardcore-punk-usa/
LOCATION:Collosseum Club\, Dominikánske námestie 35\, Košice\, 04001
END:VEVENT
BEGIN:VEVENT
DTSTART;TZID=Europe/Bratislava:20250703T190000
DTEND;TZID=Europe/Bratislava:20250703T220000
DTSTAMP:20260425T153742
CREATED:20250527T195220Z
LAST-MODIFIED:20250624T150658Z
UID:6005-1751569200-1751580000@collosseum.sk
SUMMARY:ARKONA [RU] + ACHSAR [SK]
DESCRIPTION:
URL:https://collosseum.sk/event/arkona-support/
LOCATION:Collosseum Club\, Dominikánske námestie 35\, Košice\, 04001
END:VEVENT
BEGIN:VEVENT
DTSTART;TZID=Europe/Bratislava:20250629T190000
DTEND;TZID=Europe/Bratislava:20250629T220000
DTSTAMP:20260425T153742
CREATED:20250129T165859Z
LAST-MODIFIED:20250221T130304Z
UID:5081-1751223600-1751234400@collosseum.sk
SUMMARY:MAID OF ACE (punk rock/UK) + support
DESCRIPTION:
URL:https://collosseum.sk/event/maid-of-ace-punk/
LOCATION:Collosseum Club\, Dominikánske námestie 35\, Košice\, 04001
END:VEVENT
BEGIN:VEVENT
DTSTART;TZID=Europe/Bratislava:20250626T190000
DTEND;TZID=Europe/Bratislava:20250626T220000
DTSTAMP:20260425T153742
CREATED:20250205T184748Z
LAST-MODIFIED:20250602T125651Z
UID:5134-1750964400-1750975200@collosseum.sk
SUMMARY:CHELSEA (punk/UK) + support
DESCRIPTION:
URL:https://collosseum.sk/event/chelsea-punk-uk/
LOCATION:Collosseum Club\, Dominikánske námestie 35\, Košice\, 04001
END:VEVENT
BEGIN:VEVENT
DTSTART;TZID=Europe/Bratislava:20250616T190000
DTEND;TZID=Europe/Bratislava:20250616T220000
DTSTAMP:20260425T153742
CREATED:20250303T211841Z
LAST-MODIFIED:20250303T211841Z
UID:5327-1750100400-1750111200@collosseum.sk
SUMMARY:CARCASS [UK] - prvý krát na Slovensku\, Ingrowing [CZ]
DESCRIPTION:
URL:https://collosseum.sk/event/carcass-uk-ingrowing-cz/
LOCATION:Collosseum Club\, Dominikánske námestie 35\, Košice\, 04001
END:VEVENT
BEGIN:VEVENT
DTSTART;TZID=Europe/Bratislava:20250531T193000
DTEND;TZID=Europe/Bratislava:20250531T220000
DTSTAMP:20260425T153742
CREATED:20250411T110225Z
LAST-MODIFIED:20250529T093016Z
UID:5690-1748719800-1748728800@collosseum.sk
SUMMARY:DARSOMBRA [USA] STINKING LIZAVETA [USA] // 777
DESCRIPTION:DARSOMBRA [Baltimore\, USA] trans-apocalyptic galaxy rock duo\nhttps://darsombra.bandcamp.com/\nSTINKING LIZAVETA [Philadelphia\, USA] power doom jazz trio\nhttps://stinkinglizavetaofficial.bandcamp.com/
URL:https://collosseum.sk/event/darsombra-stinking-lizaveta/
LOCATION:Collosseum Club\, Dominikánske námestie 35\, Košice\, 04001
END:VEVENT
BEGIN:VEVENT
DTSTART;TZID=Europe/Bratislava:20250518T180000
DTEND;TZID=Europe/Bratislava:20250518T220000
DTSTAMP:20260425T153742
CREATED:20250205T180436Z
LAST-MODIFIED:20250205T180630Z
UID:5122-1747591200-1747605600@collosseum.sk
SUMMARY:STABBING [USA] IMMORTAL SUFFERING [USA] EMASCULATOR [USA/CZ]
DESCRIPTION:
URL:https://collosseum.sk/event/stabbing-immortal-suffering-emasculator/
LOCATION:Collosseum Club\, Dominikánske námestie 35\, Košice\, 04001
END:VEVENT
BEGIN:VEVENT
DTSTART;TZID=Europe/Bratislava:20250502T190000
DTEND;TZID=Europe/Bratislava:20250502T220000
DTSTAMP:20260425T153742
CREATED:20231024T123125Z
LAST-MODIFIED:20250429T115745Z
UID:2894-1746212400-1746223200@collosseum.sk
SUMMARY:SPACE OF VARIATIONS (electronic metal/UA] + Wolnera (thrash/SK) - krst albumu
DESCRIPTION:
URL:https://collosseum.sk/event/space-of-variations-tickets/
LOCATION:Collosseum Club\, Dominikánske námestie 35\, Košice\, 04001
END:VEVENT
BEGIN:VEVENT
DTSTART;TZID=Europe/Bratislava:20250423T180000
DTEND;TZID=Europe/Bratislava:20250423T220000
DTSTAMP:20260425T153742
CREATED:20241027T180725Z
LAST-MODIFIED:20241028T160804Z
UID:4593-1745431200-1745445600@collosseum.sk
SUMMARY:ANALEPSY [PT]\, ANIME TORMENT [CZ] - Anilepsy Mini Tour 2025
DESCRIPTION:ANALEPSY [PT]\, ANIME TORMENT [CZ] – Anilepsy Mini Tour 2025
URL:https://collosseum.sk/event/analepsy-pt-anime-torment-cz-anilepsy-mini-tour-2025/
LOCATION:Collosseum Club\, Dominikánske námestie 35\, Košice\, 04001
END:VEVENT
BEGIN:VEVENT
DTSTART;TZID=Europe/Bratislava:20250413T190000
DTEND;TZID=Europe/Bratislava:20250413T220000
DTSTAMP:20260425T153742
CREATED:20241223T170919Z
LAST-MODIFIED:20241223T171049Z
UID:4831-1744570800-1744581600@collosseum.sk
SUMMARY:● AUSTERE [AU] ● LUNAR TOMBFIELDS [FR] ●
DESCRIPTION:
URL:https://collosseum.sk/event/austere-lunar-tombfields/
LOCATION:Collosseum Club\, Dominikánske námestie 35\, Košice\, 04001
END:VEVENT
BEGIN:VEVENT
DTSTART;TZID=Europe/Bratislava:20250412T190000
DTEND;TZID=Europe/Bratislava:20250412T220000
DTSTAMP:20260425T153742
CREATED:20250119T183704Z
LAST-MODIFIED:20250408T142953Z
UID:5023-1744484400-1744495200@collosseum.sk
SUMMARY:SPS - Punk & Film Turné 2025 + špeciálny hosť PUNKREAS - 30 rokov hrania
DESCRIPTION:
URL:https://collosseum.sk/event/sps-sk-punk-film-turne-2025/
LOCATION:Collosseum Club\, Dominikánske námestie 35\, Košice\, 04001
END:VEVENT
BEGIN:VEVENT
DTSTART;TZID=Europe/Bratislava:20250408T190000
DTEND;TZID=Europe/Bratislava:20250408T220000
DTSTAMP:20260425T153742
CREATED:20250117T140231Z
LAST-MODIFIED:20250117T140231Z
UID:4999-1744138800-1744149600@collosseum.sk
SUMMARY:Vlasta Redl s kapelou
DESCRIPTION:
URL:https://collosseum.sk/event/vlasta-redl-s-kapelou/
LOCATION:Collosseum Club\, Dominikánske námestie 35\, Košice\, 04001
END:VEVENT
END:VCALENDAR