BEGIN:VCALENDAR
VERSION:2.0
PRODID:-//Collosseum Club Košice - ECPv6.15.20//NONSGML v1.0//EN
CALSCALE:GREGORIAN
METHOD:PUBLISH
X-ORIGINAL-URL:https://collosseum.sk
X-WR-CALDESC:Udalosti pre Collosseum Club Košice
REFRESH-INTERVAL;VALUE=DURATION:PT1H
X-Robots-Tag:noindex
X-PUBLISHED-TTL:PT1H
BEGIN:VTIMEZONE
TZID:Europe/Bratislava
BEGIN:DAYLIGHT
TZOFFSETFROM:+0100
TZOFFSETTO:+0200
TZNAME:CEST
DTSTART:20250330T010000
END:DAYLIGHT
BEGIN:STANDARD
TZOFFSETFROM:+0200
TZOFFSETTO:+0100
TZNAME:CET
DTSTART:20251026T010000
END:STANDARD
BEGIN:DAYLIGHT
TZOFFSETFROM:+0100
TZOFFSETTO:+0200
TZNAME:CEST
DTSTART:20260329T010000
END:DAYLIGHT
BEGIN:STANDARD
TZOFFSETFROM:+0200
TZOFFSETTO:+0100
TZNAME:CET
DTSTART:20261025T010000
END:STANDARD
BEGIN:DAYLIGHT
TZOFFSETFROM:+0100
TZOFFSETTO:+0200
TZNAME:CEST
DTSTART:20270328T010000
END:DAYLIGHT
BEGIN:STANDARD
TZOFFSETFROM:+0200
TZOFFSETTO:+0100
TZNAME:CET
DTSTART:20271031T010000
END:STANDARD
END:VTIMEZONE
BEGIN:VEVENT
DTSTART;TZID=Europe/Bratislava:20260802T190000
DTEND;TZID=Europe/Bratislava:20260802T220000
DTSTAMP:20260425T140256
CREATED:20260407T102134Z
LAST-MODIFIED:20260407T102741Z
UID:8119-1785697200-1785708000@collosseum.sk
SUMMARY:LEFT TO DIE
DESCRIPTION:
URL:https://collosseum.sk/event/left-to-die/
LOCATION:Collosseum Club\, Dominikánske námestie 35\, Košice\, 04001
ATTACH;FMTTYPE=image/jpeg:https://collosseum.sk/wp-content/uploads/2026/04/left-to-die_thumb.jpeg
END:VEVENT
END:VCALENDAR