BEGIN:VCALENDAR
VERSION:2.0
PRODID:-//Collosseum Club Košice - ECPv6.15.20//NONSGML v1.0//EN
CALSCALE:GREGORIAN
METHOD:PUBLISH
X-WR-CALNAME:Collosseum Club Košice
X-ORIGINAL-URL:https://collosseum.sk
X-WR-CALDESC:Udalosti pre Collosseum Club Košice
REFRESH-INTERVAL;VALUE=DURATION:PT1H
X-Robots-Tag:noindex
X-PUBLISHED-TTL:PT1H
BEGIN:VTIMEZONE
TZID:Europe/Bratislava
BEGIN:DAYLIGHT
TZOFFSETFROM:+0100
TZOFFSETTO:+0200
TZNAME:CEST
DTSTART:20250330T010000
END:DAYLIGHT
BEGIN:STANDARD
TZOFFSETFROM:+0200
TZOFFSETTO:+0100
TZNAME:CET
DTSTART:20251026T010000
END:STANDARD
BEGIN:DAYLIGHT
TZOFFSETFROM:+0100
TZOFFSETTO:+0200
TZNAME:CEST
DTSTART:20260329T010000
END:DAYLIGHT
BEGIN:STANDARD
TZOFFSETFROM:+0200
TZOFFSETTO:+0100
TZNAME:CET
DTSTART:20261025T010000
END:STANDARD
BEGIN:DAYLIGHT
TZOFFSETFROM:+0100
TZOFFSETTO:+0200
TZNAME:CEST
DTSTART:20270328T010000
END:DAYLIGHT
BEGIN:STANDARD
TZOFFSETFROM:+0200
TZOFFSETTO:+0100
TZNAME:CET
DTSTART:20271031T010000
END:STANDARD
END:VTIMEZONE
BEGIN:VEVENT
DTSTART;TZID=Europe/Bratislava:20260213T200000
DTEND;TZID=Europe/Bratislava:20260213T220000
DTSTAMP:20260425T122857
CREATED:20260114T143210Z
LAST-MODIFIED:20260114T144845Z
UID:7678-1771012800-1771020000@collosseum.sk
SUMMARY:KATARZIA + klavír: Robin Galia
DESCRIPTION:
URL:https://collosseum.sk/event/katarzia-2026/
LOCATION:Collosseum Club\, Dominikánske námestie 35\, Košice\, 04001
END:VEVENT
END:VCALENDAR