BEGIN:VCALENDAR
VERSION:2.0
PRODID:-//Collosseum Club Košice - ECPv6.15.20//NONSGML v1.0//EN
CALSCALE:GREGORIAN
METHOD:PUBLISH
X-WR-CALNAME:Collosseum Club Košice
X-ORIGINAL-URL:https://collosseum.sk
X-WR-CALDESC:Udalosti pre Collosseum Club Košice
REFRESH-INTERVAL;VALUE=DURATION:PT1H
X-Robots-Tag:noindex
X-PUBLISHED-TTL:PT1H
BEGIN:VTIMEZONE
TZID:Europe/Bratislava
BEGIN:DAYLIGHT
TZOFFSETFROM:+0100
TZOFFSETTO:+0200
TZNAME:CEST
DTSTART:20240331T010000
END:DAYLIGHT
BEGIN:STANDARD
TZOFFSETFROM:+0200
TZOFFSETTO:+0100
TZNAME:CET
DTSTART:20241027T010000
END:STANDARD
BEGIN:DAYLIGHT
TZOFFSETFROM:+0100
TZOFFSETTO:+0200
TZNAME:CEST
DTSTART:20250330T010000
END:DAYLIGHT
BEGIN:STANDARD
TZOFFSETFROM:+0200
TZOFFSETTO:+0100
TZNAME:CET
DTSTART:20251026T010000
END:STANDARD
BEGIN:DAYLIGHT
TZOFFSETFROM:+0100
TZOFFSETTO:+0200
TZNAME:CEST
DTSTART:20260329T010000
END:DAYLIGHT
BEGIN:STANDARD
TZOFFSETFROM:+0200
TZOFFSETTO:+0100
TZNAME:CET
DTSTART:20261025T010000
END:STANDARD
END:VTIMEZONE
BEGIN:VEVENT
DTSTART;TZID=Europe/Bratislava:20250212T170000
DTEND;TZID=Europe/Bratislava:20250212T220000
DTSTAMP:20260426T062811
CREATED:20241018T193436Z
LAST-MODIFIED:20250205T145610Z
UID:4564-1739379600-1739397600@collosseum.sk
SUMMARY:DEFEATED SANITY [DE]\, TO VIOLENTLY VOMIT [USA] \, PUTRID PILE [USA]\, INIQUITOUS SAVAGERY [SCT]\, STRANGLE WIRE [IE]
DESCRIPTION:DEFEATED SANITY [DE] brutal death metal \n TO VIOLENTLY VOMIT [USA] brutal death metal \nPUTRID PILE [USA] brutal death metal \nINIQUITOUS SAVAGERY [SCT] brutal death metal \nSTRANGLE WIRE [IE] death metal
URL:https://collosseum.sk/event/defeated-sanity-to-violently-vomit-putrid-pile-iniquitous-savagery-strangle-wire/
LOCATION:Collosseum Club\, Dominikánske námestie 35\, Košice\, 04001
ATTACH;FMTTYPE=image/jpeg:https://collosseum.sk/wp-content/uploads/2024/10/ventheader.jpg
END:VEVENT
END:VCALENDAR